BEGIN:VCALENDAR
VERSION:2.0
PRODID:-//Bloomington Event Center - ECPv6.6.4.2//NONSGML v1.0//EN
CALSCALE:GREGORIAN
METHOD:PUBLISH
X-WR-CALNAME:Bloomington Event Center
X-ORIGINAL-URL:https://bloomingtoneventcenter.com
X-WR-CALDESC:Events for Bloomington Event Center
REFRESH-INTERVAL;VALUE=DURATION:PT1H
X-Robots-Tag:noindex
X-PUBLISHED-TTL:PT1H
BEGIN:VTIMEZONE
TZID:America/Chicago
BEGIN:DAYLIGHT
TZOFFSETFROM:-0600
TZOFFSETTO:-0500
TZNAME:CDT
DTSTART:20250309T080000
END:DAYLIGHT
BEGIN:STANDARD
TZOFFSETFROM:-0500
TZOFFSETTO:-0600
TZNAME:CST
DTSTART:20251102T070000
END:STANDARD
END:VTIMEZONE
BEGIN:VEVENT
DTSTART;TZID=America/Chicago:20250413T080000
DTEND;TZID=America/Chicago:20250413T130000
DTSTAMP:20260425T085001
CREATED:20250331T204457Z
LAST-MODIFIED:20250331T213724Z
UID:3850-1744531200-1744549200@bloomingtoneventcenter.com
SUMMARY:Bloomington Lion's Pancake Fundraiser 4/13/25
DESCRIPTION:Join us on Sunday\, April 13\, 2025 at the Bloomington Event Center for the Bloomington Lion’s Pancake Fundraiser! Open from 8am until 1pm. \nClick here to purchase your $10 ticket\nClick here to follow the Bloomington Lions Club on Facebook
URL:https://bloomingtoneventcenter.com/event/bloomington-lions-pancake-fundraiser/
LOCATION:Bloomington Event Center – Grand Hall\, 1114 American Boulevard West\, Bloomington\, MN\, 55420\, United States
CATEGORIES:Fundraiser,Pancake Breakfast
ATTACH;FMTTYPE=image/jpeg:https://bloomingtoneventcenter.com/wp-content/uploads/2025/03/485062200_1072539798248058_7035074872154432012_n.jpg
ORGANIZER;CN="Bloomington Lion's Club":MAILTO:bloomingtonmnlions@gmail.com
END:VEVENT
END:VCALENDAR