BEGIN:VCALENDAR
VERSION:2.0
PRODID:-//Bloomington Event Center - ECPv6.6.4.2//NONSGML v1.0//EN
CALSCALE:GREGORIAN
METHOD:PUBLISH
X-ORIGINAL-URL:https://bloomingtoneventcenter.com
X-WR-CALDESC:Events for Bloomington Event Center
REFRESH-INTERVAL;VALUE=DURATION:PT1H
X-Robots-Tag:noindex
X-PUBLISHED-TTL:PT1H
BEGIN:VTIMEZONE
TZID:America/Chicago
BEGIN:DAYLIGHT
TZOFFSETFROM:-0600
TZOFFSETTO:-0500
TZNAME:CDT
DTSTART:20250309T080000
END:DAYLIGHT
BEGIN:STANDARD
TZOFFSETFROM:-0500
TZOFFSETTO:-0600
TZNAME:CST
DTSTART:20251102T070000
END:STANDARD
END:VTIMEZONE
BEGIN:VEVENT
DTSTART;TZID=America/Chicago:20251010T180000
DTEND;TZID=America/Chicago:20251010T220000
DTSTAMP:20260425T052156
CREATED:20251002T163613Z
LAST-MODIFIED:20251002T163613Z
UID:4175-1760119200-1760133600@bloomingtoneventcenter.com
SUMMARY:MAW Live Pro Wrestling
DESCRIPTION:MAW-Live! “Fall Fury!”\n6 PM: Doors // 7:30 PM: Start\nJoin us for the last stop in the metro area before GS7 for what’s sure to be a huge show!\nOn the card:MAW Champion: VIRKJDXMAW Tag Team Champions! Royal Flavuh [Alex Findley/Devo Knight]Kyle ProJoey Jet AvalonSierraCornelius VaughnNDS [Rylie Jackson/Levy Cruise]Gentlemen’s Club [Aaron Arsenal/Lennox Leone]Ethan Everheart\n Tickets:\n$20 Adult [Ringside Reserved Rows 1 & 2]$15 General Admission [Adult]$10 General Admission [Kids 10-under]$125 Party Tables [includes 6-seats\, Pizza  and beverages!\nTickets available online or at the doors day of show![+ $5 day of show]\n\nClick here to buy tickets!
URL:https://bloomingtoneventcenter.com/event/maw-live-pro-wrestling/
LOCATION:Bloomington Event Center – Grand Hall\, 1114 American Boulevard West\, Bloomington\, MN\, 55420\, United States
CATEGORIES:Wrestling
END:VEVENT
END:VCALENDAR