BEGIN:VCALENDAR
VERSION:2.0
PRODID:-//Bloomington Event Center - ECPv6.6.4.2//NONSGML v1.0//EN
CALSCALE:GREGORIAN
METHOD:PUBLISH
X-WR-CALNAME:Bloomington Event Center
X-ORIGINAL-URL:https://bloomingtoneventcenter.com
X-WR-CALDESC:Events for Bloomington Event Center
REFRESH-INTERVAL;VALUE=DURATION:PT1H
X-Robots-Tag:noindex
X-PUBLISHED-TTL:PT1H
BEGIN:VTIMEZONE
TZID:America/Chicago
BEGIN:DAYLIGHT
TZOFFSETFROM:-0600
TZOFFSETTO:-0500
TZNAME:CDT
DTSTART:20250309T080000
END:DAYLIGHT
BEGIN:STANDARD
TZOFFSETFROM:-0500
TZOFFSETTO:-0600
TZNAME:CST
DTSTART:20251102T070000
END:STANDARD
END:VTIMEZONE
BEGIN:VEVENT
DTSTART;TZID=America/Chicago:20251031T180000
DTEND;TZID=America/Chicago:20251031T200000
DTSTAMP:20260421T063841
CREATED:20251016T213515Z
LAST-MODIFIED:20251016T213515Z
UID:4197-1761933600-1761940800@bloomingtoneventcenter.com
SUMMARY:Bloomington Optimists Halloween Event
DESCRIPTION:We’re excited to host this fun Halloween event again this year at the Bloomington Event Center!  Bring the kids for an afternoon of candy\, games\, and face painting!  \n\n\n\nFood or cash donations will be accepted to support VEAP.\n\n\n\nDon’t miss out on the fun — it’s going to be spooktacular!
URL:https://bloomingtoneventcenter.com/event/bloomington-optimists-halloween-event/
LOCATION:Bloomington Event Center – Grand Hall\, 1114 American Boulevard West\, Bloomington\, MN\, 55420\, United States
CATEGORIES:Family Fun Night,Holiday
ATTACH;FMTTYPE=image/png:https://bloomingtoneventcenter.com/wp-content/uploads/2025/10/halloween-optimist-2025.png
END:VEVENT
END:VCALENDAR